BEGIN:VCALENDAR
PRODID:-//eluceo/ical//2.0/EN
VERSION:2.0
CALSCALE:GREGORIAN
BEGIN:VEVENT
UID:202605171030@198-58-111-59.ip.linodeusercontent.com/visit/event-calenda
 r/worship-service
DTSTAMP:20260422T084048Z
SUMMARY:Worship Service
DESCRIPTION:
DTSTART:20260517T103000
DTEND:20260517T114500
ORGANIZER;CN=GracePoint Church:mailto:church@gracepointatlantic.com
END:VEVENT
END:VCALENDAR
