BEGIN:VCALENDAR
PRODID:-//eluceo/ical//2.0/EN
VERSION:2.0
CALSCALE:GREGORIAN
BEGIN:VEVENT
UID:202605170915@198-58-111-59.ip.linodeusercontent.com/visit/event-calenda
 r/sunday-school-adult-bible-fellowship
DTSTAMP:20260422T082710Z
SUMMARY:Sunday School & Adult Bible Fellowship
DESCRIPTION:
DTSTART:20260517T091500
DTEND:20260517T100000
ORGANIZER;CN=GracePoint Church:mailto:church@gracepointatlantic.com
END:VEVENT
END:VCALENDAR
